BEGIN:VCALENDAR
VERSION:2.0
PRODID:-//Bishopdale Burnside Rotary - ECPv6.15.20//NONSGML v1.0//EN
CALSCALE:GREGORIAN
METHOD:PUBLISH
X-ORIGINAL-URL:https://bishopdale-burnside-rotary.com
X-WR-CALDESC:Events for Bishopdale Burnside Rotary
REFRESH-INTERVAL;VALUE=DURATION:PT1H
X-Robots-Tag:noindex
X-PUBLISHED-TTL:PT1H
BEGIN:VTIMEZONE
TZID:Pacific/Auckland
BEGIN:STANDARD
TZOFFSETFROM:+1300
TZOFFSETTO:+1200
TZNAME:NZST
DTSTART:20250405T140000
END:STANDARD
BEGIN:DAYLIGHT
TZOFFSETFROM:+1200
TZOFFSETTO:+1300
TZNAME:NZDT
DTSTART:20250927T140000
END:DAYLIGHT
BEGIN:STANDARD
TZOFFSETFROM:+1300
TZOFFSETTO:+1200
TZNAME:NZST
DTSTART:20260404T140000
END:STANDARD
BEGIN:DAYLIGHT
TZOFFSETFROM:+1200
TZOFFSETTO:+1300
TZNAME:NZDT
DTSTART:20260926T140000
END:DAYLIGHT
BEGIN:STANDARD
TZOFFSETFROM:+1300
TZOFFSETTO:+1200
TZNAME:NZST
DTSTART:20270403T140000
END:STANDARD
BEGIN:DAYLIGHT
TZOFFSETFROM:+1200
TZOFFSETTO:+1300
TZNAME:NZDT
DTSTART:20270925T140000
END:DAYLIGHT
END:VTIMEZONE
BEGIN:VEVENT
DTSTART;TZID=Pacific/Auckland:20260419T090000
DTEND;TZID=Pacific/Auckland:20260419T140000
DTSTAMP:20260420T223101
CREATED:20251124T045557Z
LAST-MODIFIED:20260127T083921Z
UID:7872-1776589200-1776607200@bishopdale-burnside-rotary.com
SUMMARY:BOOKarama 2026 - Day 3
DESCRIPTION:BOOKarama 2026 Friday 17th to 19th April 2026 \nOpen from 9am to 6pm Friday and Saturday \nOpen from 9am to 2pm Sunday
URL:https://bishopdale-burnside-rotary.com/event/bookarama-2026-day-3/
LOCATION:Bishopdale Recreation Centre\, 13A Bishopdale Ct\, Bishopdale\, Christchurch\, 8053\, New Zealand
CATEGORIES:Club Project
END:VEVENT
BEGIN:VEVENT
DTSTART;TZID=Pacific/Auckland:20260418T090000
DTEND;TZID=Pacific/Auckland:20260418T180000
DTSTAMP:20260420T223101
CREATED:20251124T045325Z
LAST-MODIFIED:20260127T083809Z
UID:7869-1776502800-1776535200@bishopdale-burnside-rotary.com
SUMMARY:BOOKarama 2026 Day 2
DESCRIPTION:BOOKarama 2026 Friday 17th to 19th April 2026 \nOpen from 9am to 6pm Friday and Saturday \nOpen from 9am to 2pm Sunday
URL:https://bishopdale-burnside-rotary.com/event/bookarama-2026-day-2/
LOCATION:Bishopdale Recreation Centre\, 13A Bishopdale Ct\, Bishopdale\, Christchurch\, 8053\, New Zealand
CATEGORIES:Club Project
END:VEVENT
BEGIN:VEVENT
DTSTART;TZID=Pacific/Auckland:20260417T090000
DTEND;TZID=Pacific/Auckland:20260417T180000
DTSTAMP:20260420T223101
CREATED:20251124T044948Z
LAST-MODIFIED:20260127T083604Z
UID:7866-1776416400-1776448800@bishopdale-burnside-rotary.com
SUMMARY:BOOKarama 2026 - Day 1
DESCRIPTION:BOOKarama 2026 Friday 17th to 19th April 2026 \nOpen from 9am to 6pm Friday and Saturday \nOpen from 9am to 2pm Sunday \nNote the earlier opening time \n 
URL:https://bishopdale-burnside-rotary.com/event/bookarama-2026/
LOCATION:Bishopdale Recreation Centre\, 13A Bishopdale Ct\, Bishopdale\, Christchurch\, 8053\, New Zealand
CATEGORIES:Club Project
END:VEVENT
BEGIN:VEVENT
DTSTART;TZID=Pacific/Auckland:20260201T150000
DTEND;TZID=Pacific/Auckland:20260201T170000
DTSTAMP:20260420T223101
CREATED:20251209T044948Z
LAST-MODIFIED:20251209T044948Z
UID:7937-1769958000-1769965200@bishopdale-burnside-rotary.com
SUMMARY:Club Meeting:  Visit to Full Bellies HQ (TBC)
DESCRIPTION:Visit to Full Bellies Charitable Trust HQ – details to be confirmed
URL:https://bishopdale-burnside-rotary.com/event/club-meeting-visit-to-full-bellies-hq-tbc/
CATEGORIES:Club Project
END:VEVENT
END:VCALENDAR